BEGIN:VCALENDAR
VERSION:2.0
PRODID:-//ChamberMaster//Event Calendar 2.0//EN
METHOD:PUBLISH
X-PUBLISHED-TTL:P3D
REFRESH-INTERVAL:P3D
CALSCALE:GREGORIAN
BEGIN:VEVENT
DTSTART:20260511T150000Z
DTEND:20260421T160000Z
X-MICROSOFT-CDO-ALLDAYEVENT:FALSE
SUMMARY:Chamber AGM 2026
DESCRIPTION:You are Invited to the Dungarvan & West Waterford Chamber Annual General Meeting.\n\n\n\nSchedule: \n\n	Presentation of 2025 Accounts by IFAC Accountants\n	Election of Directors & Chamber President \n	Roundup of Chamber activities & future plans\n	Close of Meeting \n\nBooking is Essential.
X-ALT-DESC;FMTTYPE=text/html:<span style="font-family:aptos\,sans-serif\;">You are Invited to the Dungarvan &amp\; West Waterford Chamber Annual General Meeting.</span><br />\n<br />\n<span style="font-family:aptos\,sans-serif\;">Schedule: </span>\n<ul style="list-style-type:circle\;">\n	<li><span style="font-family:aptos\,sans-serif\;">Presentation of 2025 Accounts by IFAC Accountants</span></li>\n	<li><span style="font-family:aptos\,sans-serif\;">Election of Directors &amp\; Chamber President </span></li>\n	<li><span style="font-family:aptos\,sans-serif\;">Roundup of Chamber activities &amp\; future plans</span></li>\n	<li><span style="font-family:aptos\,sans-serif\;">Close of Meeting </span></li>\n</ul>\n<strong><span style="background:white\;"><span style="color:black\;"><span style="font-family:aptos\,sans-serif\;">Booking is Essential.</span></span></span></strong><br />\n&nbsp\;
LOCATION:Dungarvan Sailing Club\, Davitt's Quay
UID:e.3637.113
SEQUENCE:3
DTSTAMP:20260421T154916Z
URL:http://business.dungarvanchamber.ie/events/details/chamber-agm-2026-113
END:VEVENT

END:VCALENDAR
