BEGIN:VCALENDAR
VERSION:2.0
PRODID:-//ChamberMaster//Event Calendar 2.0//EN
METHOD:PUBLISH
X-PUBLISHED-TTL:P3D
REFRESH-INTERVAL:P3D
CALSCALE:GREGORIAN
BEGIN:VEVENT
DTSTART:20260716T073000Z
DTEND:20260716T083000Z
X-MICROSOFT-CDO-ALLDAYEVENT:FALSE
SUMMARY:Chamber Connect @ Aspire Physiotherapy
DESCRIPTION:Join us for a Chamber Connect @ Aspire Physiotherapy on Thursday 16th July\, 23 Strandside South\, Abbeyside\, Dungarvan from 8.30-9.30am.\n\n\n\nMaking the most of a summer morning we're delighted to invite you to Aspire Physiotherapy and get your day off to a great start.\n\n\n\nStep inside the new look clinic with extra treatment rooms and brand-new rehab and class facilities. Engage with fellow members and colleagues for a coffee\, share ideas and tips\, and spread the word about your business.\n\n\n\nThese high energy environments have led to new business relationships\, clients\, suppliers and beneficial information exchange - come along and enjoy an uplifting networking event.\n\n\n\nThis is a free event for Chamber members.\n\n\n\nTo book\, contact us on 058 45054 or email info@dungarvanchamber.ie
X-ALT-DESC;FMTTYPE=text/html:Join us for a Chamber Connect @ Aspire Physiotherapy on Thursday 16th July\, 23 Strandside South\, Abbeyside\, Dungarvan from 8.30-9.30am.<br />\n<br />\nMaking the most of a summer morning we&rsquo\;re delighted to invite you to Aspire Physiotherapy and get your day off to a great start.<br />\n<br />\nStep inside the new look clinic with extra treatment rooms and brand-new rehab and class facilities. Engage with fellow members and colleagues for a coffee\, share ideas and tips\, and spread the word about your business.<br />\n<br />\nThese high energy environments have led to new business relationships\, clients\, suppliers and beneficial information exchange - come along and enjoy an uplifting networking event.<br />\n<br />\nThis is a free event for Chamber members.<br />\n<br />\nTo book\, contact us on 058 45054 or email info@dungarvanchamber.ie
LOCATION:23 Strandside South\, Abbeyside\, Dungarvan\, X35 W778
UID:e.3637.115
SEQUENCE:3
DTSTAMP:20260421T161602Z
URL:https://business.dungarvanchamber.ie/events/details/chamber-connect-aspire-physiotherapy-115
END:VEVENT

END:VCALENDAR
