BEGIN:VCALENDAR
VERSION:2.0
PRODID:-//ChamberMaster//Event Calendar 2.0//EN
METHOD:PUBLISH
X-PUBLISHED-TTL:P3D
REFRESH-INTERVAL:P3D
CALSCALE:GREGORIAN
BEGIN:VEVENT
DTSTART:20260623T170000Z
DTEND:20260623T183000Z
X-MICROSOFT-CDO-ALLDAYEVENT:FALSE
SUMMARY:Summer on the Terrace – Chamber Networking at The Cliff House Hotel
DESCRIPTION:Following the outstanding success of last year's event\, the Dungarvan & West Waterford Chamber is delighted to return to the stunning Cliff House Hotel for Summer on the Terrace   an elevated networking experience in one of Ireland's most spectacular coastal settings.\n\n\n\nSet against the backdrop of uninterrupted sea views\, this early summer evening brings together business\, place and atmosphere in a way that is both relaxed and refined. Guests will enjoy a curated selection of drinks and exceptional canap s\, served on the hotel's iconic terrace   a setting that offers a true sense of occasion from the moment you arrive.\n\n\n\nWe are pleased to once again partner with the Cliff House Hotel team\, led by General Manager Kresimir Krezo\, and to showcase the warmth\, quality and attention to detail that defines this five-star destination.\n\n\n\nThe evening promises a vibrant and sociable experience\, bringing together a strong mix of business leaders\, members and guests.\n\n\n\nThis is an opportunity to:\n\n  Connect with fellow members in a standout setting\n\n  Enjoy a summer evening that feels both effortless and special\n\n  Experience one of the region's most distinctive venues\n\n\n\nAttendance is limited and demand is expected to be high. Early booking is strongly advised.
X-ALT-DESC;FMTTYPE=text/html:<span style="font-family:calibri\,sans-serif\;"><span style="font-size:12.0pt\;">Following the outstanding success of last year&rsquo\;s event\, the Dungarvan &amp\; West Waterford Chamber is delighted to return to the stunning Cliff House Hotel for <em>Summer on the Terrace</em> &mdash\; an elevated networking experience in one of Ireland&rsquo\;s most spectacular coastal settings.</span></span><br />\n<br />\n<span style="font-family:calibri\,sans-serif\;"><span style="font-size:12.0pt\;">Set against the backdrop of uninterrupted sea views\, this early summer evening brings together business\, place and atmosphere in a way that is both relaxed and refined. Guests will enjoy a curated selection of drinks and exceptional canap&eacute\;s\, served on the hotel&rsquo\;s iconic terrace &mdash\; a setting that offers a true sense of occasion from the moment you arrive.</span></span><br />\n<br />\n<span style="font-family:calibri\,sans-serif\;"><span style="font-size:12.0pt\;">We are pleased to once again partner with the Cliff House Hotel team\, led by General Manager </span></span><span style="font-family:calibri light\,sans-serif\;"><span style="font-size:12.0pt\;">Kresimir Krezo</span></span><span style="font-family:calibri\,sans-serif\;"><span style="font-size:12.0pt\;">\, and to showcase the warmth\, quality and attention to detail that defines this five-star destination.</span></span><br />\n<br />\n<span style="font-family:calibri\,sans-serif\;"><span style="font-size:12.0pt\;">The evening promises a vibrant and sociable experience\, bringing together a strong mix of business leaders\, members and guests.</span></span><br />\n<br />\n<span style="font-family:calibri\,sans-serif\;"><span style="font-size:12.0pt\;">This is an opportunity to:<br />\n&bull\; Connect with fellow members in a standout setting<br />\n&bull\; Enjoy a summer evening that feels both effortless and special<br />\n&bull\; Experience one of the region&rsquo\;s most distinctive venues</span></span><br />\n<br />\n<strong><span style="font-family:calibri\,sans-serif\;"><span style="font-size:12.0pt\;">Attendance is limited and demand is expected to be high. Early booking is strongly advised.</span></span></strong>
LOCATION:The Cliff House Hotel\, Ardmore
UID:e.3637.114
SEQUENCE:3
DTSTAMP:20260421T162158Z
URL:https://business.dungarvanchamber.ie/events/details/summer-on-the-terrace-chamber-networking-at-the-cliff-house-hotel-114
END:VEVENT

END:VCALENDAR
